BEGIN:VCALENDAR
VERSION:2.0
PRODID:-//Live on Stage PH - ECPv6.15.20//NONSGML v1.0//EN
CALSCALE:GREGORIAN
METHOD:PUBLISH
X-WR-CALNAME:Live on Stage PH
X-ORIGINAL-URL:https://liveonstageph.com
X-WR-CALDESC:Events for Live on Stage PH
REFRESH-INTERVAL;VALUE=DURATION:PT1H
X-Robots-Tag:noindex
X-PUBLISHED-TTL:PT1H
BEGIN:VTIMEZONE
TZID:Asia/Manila
BEGIN:STANDARD
TZOFFSETFROM:+0800
TZOFFSETTO:+0800
TZNAME:PST
DTSTART:20230101T000000
END:STANDARD
END:VTIMEZONE
BEGIN:VEVENT
DTSTART;VALUE=DATE:20251129
DTEND;VALUE=DATE:20251130
DTSTAMP:20260423T225613
CREATED:20250813T153113Z
LAST-MODIFIED:20250813T153236Z
UID:1099-1764374400-1764460799@liveonstageph.com
SUMMARY:Jeremy Zucker World Tour 2025 in Manila
DESCRIPTION:
URL:https://liveonstageph.com/event/jeremy-zucker-world-tour-2025-in-manila/
LOCATION:New Frontier Theater\, Philippines
ATTACH;FMTTYPE=image/jpeg:https://liveonstageph.com/wp-content/uploads/2025/08/jeremy-zucker-manila-2025-optimised.jpeg
END:VEVENT
BEGIN:VEVENT
DTSTART;VALUE=DATE:20250906
DTEND;VALUE=DATE:20250907
DTSTAMP:20260423T225613
CREATED:20250817T144949Z
LAST-MODIFIED:20250817T144949Z
UID:1229-1757116800-1757203199@liveonstageph.com
SUMMARY:The AXEAN Send-Off: Two-Leg Tour One Click Straight with Ena Mori\, Toneejay\, and Gabba
DESCRIPTION:
URL:https://liveonstageph.com/event/the-axean-send-off-two-leg-tour-one-click-straight-with-ena-mori-toneejay-and-gabba/
LOCATION:Minsan Studio\, Quezon City\, Philippines
CATEGORIES:Gigs,Local Acts
ATTACH;FMTTYPE=image/jpeg:https://liveonstageph.com/wp-content/uploads/2025/08/532024531_1271792097735660_8578217325432642351_n-opt.jpg
END:VEVENT
BEGIN:VEVENT
DTSTART;VALUE=DATE:20250828
DTEND;VALUE=DATE:20250829
DTSTAMP:20260423T225613
CREATED:20250817T144756Z
LAST-MODIFIED:20250817T144756Z
UID:1224-1756339200-1756425599@liveonstageph.com
SUMMARY:The AXEAN Send-Off: Two-Leg Tour One Click Straight with Suyen and Munimuni
DESCRIPTION:
URL:https://liveonstageph.com/event/the-axean-send-off-two-leg-tour-one-click-straight-with-suyen-and-munimuni/
LOCATION:Mow’s QC\, Philippines
CATEGORIES:Gigs,Local Acts
ATTACH;FMTTYPE=image/jpeg:https://liveonstageph.com/wp-content/uploads/2025/08/532024531_1271792097735660_8578217325432642351_n-opt.jpg
END:VEVENT
BEGIN:VEVENT
DTSTART;VALUE=DATE:20250827
DTEND;VALUE=DATE:20250828
DTSTAMP:20260423T225613
CREATED:20250817T144122Z
LAST-MODIFIED:20250817T144323Z
UID:1221-1756252800-1756339199@liveonstageph.com
SUMMARY:Black Eyed Peas Live in Manila
DESCRIPTION:
URL:https://liveonstageph.com/event/black-eyed-peas-live-in-manila/
LOCATION:SM Mall of Asia Arena\, Philippines
CATEGORIES:Concerts,Foreign Acts
ATTACH;FMTTYPE=image/jpeg:https://liveonstageph.com/wp-content/uploads/2025/08/490480614_1092759356215970_6704692693434368138_n-opt.jpg
END:VEVENT
BEGIN:VEVENT
DTSTART;VALUE=DATE:20250825
DTEND;VALUE=DATE:20250826
DTSTAMP:20260423T225613
CREATED:20250817T143041Z
LAST-MODIFIED:20250817T143041Z
UID:1217-1756080000-1756166399@liveonstageph.com
SUMMARY:2025 Jang Dong Woo Fan-Con Tour in Manila
DESCRIPTION:
URL:https://liveonstageph.com/event/2025-jang-dong-woo-fan-con-tour-in-manila/
LOCATION:Skydome SM City North Edsa
CATEGORIES:Fanmeet,Foreign Acts
ATTACH;FMTTYPE=image/jpeg:https://liveonstageph.com/wp-content/uploads/2025/08/513898955_1118682496950121_8642195252262998914_n-opt.jpg
END:VEVENT
BEGIN:VEVENT
DTSTART;VALUE=DATE:20250824
DTEND;VALUE=DATE:20250825
DTSTAMP:20260423T225613
CREATED:20250820T010415Z
LAST-MODIFIED:20250820T010415Z
UID:1251-1755993600-1756079999@liveonstageph.com
SUMMARY:GMMTV Fanday 23 in Manila with SkyNani and JossGawin
DESCRIPTION:
URL:https://liveonstageph.com/event/gmmtv-fanday-23-in-manila-with-skynani-and-jossgawin/
LOCATION:Samsung Hall\, SM Aura\, Taguig City\, Metro Manila\, Philippines
CATEGORIES:Fanmeet,Foreign Acts
ATTACH;FMTTYPE=image/jpeg:https://liveonstageph.com/wp-content/uploads/2025/08/GtxzdwuWsAAjQPK-opt.jpeg
END:VEVENT
BEGIN:VEVENT
DTSTART;VALUE=DATE:20250824
DTEND;VALUE=DATE:20250825
DTSTAMP:20260423T225613
CREATED:20250817T142417Z
LAST-MODIFIED:20250817T142706Z
UID:1212-1755993600-1756079999@liveonstageph.com
SUMMARY:PRISM: From Y to A 2025 Yoon San-Ha Fancon in Manila
DESCRIPTION:
URL:https://liveonstageph.com/event/prism-from-y-to-a-2025-yoon-san-ha-fancon-in-manila/
LOCATION:Skydome SM City North Edsa
CATEGORIES:Fanmeet,Foreign Acts
ATTACH;FMTTYPE=image/jpeg:https://liveonstageph.com/wp-content/uploads/2025/08/516309571_1202157085259791_6015941695064117826_n-opt.jpg
END:VEVENT
BEGIN:VEVENT
DTSTART;VALUE=DATE:20250823
DTEND;VALUE=DATE:20250824
DTSTAMP:20260423T225613
CREATED:20250817T151036Z
LAST-MODIFIED:20250817T151814Z
UID:1232-1755907200-1755993599@liveonstageph.com
SUMMARY:Perfect 10 Liners Fan Meeting in Manila
DESCRIPTION:Perfect 10 Liners Fan Meeting in Manila\n🗓️ August 23\, 2025\, 3:00PM\n📍 Samsung Hall\, SM Aura Premier \n🎫 https://smtickets.com/events/view/14996
URL:https://liveonstageph.com/event/perfect-10-liners-fan-meeting-in-manila/
LOCATION:Samsung Hall\, SM Aura\, Taguig City\, Metro Manila\, Philippines
CATEGORIES:Fanmeet,Foreign Acts
ATTACH;FMTTYPE=image/jpeg:https://liveonstageph.com/wp-content/uploads/2025/08/505168992_1102152055269832_2020644414146238765_n-opt-opt-e1755443874723.jpg
END:VEVENT
BEGIN:VEVENT
DTSTART;VALUE=DATE:20250823
DTEND;VALUE=DATE:20250824
DTSTAMP:20260423T225613
CREATED:20250813T175943Z
LAST-MODIFIED:20250813T175943Z
UID:1165-1755907200-1755993599@liveonstageph.com
SUMMARY:Highlight Live 2025 [RIDE OR DIE] in Manila
DESCRIPTION:
URL:https://liveonstageph.com/event/highlight-live-2025-ride-or-die-in-manila/
LOCATION:New Frontier Theater\, Philippines
CATEGORIES:Concerts,Foreign Acts
ATTACH;FMTTYPE=image/jpeg:https://liveonstageph.com/wp-content/uploads/2025/08/525572883_1179893464171927_2274080508109589900_n-opt.jpg
END:VEVENT
BEGIN:VEVENT
DTSTART;VALUE=DATE:20250822
DTEND;VALUE=DATE:20250823
DTSTAMP:20260423T225613
CREATED:20250813T173319Z
LAST-MODIFIED:20250813T173319Z
UID:1152-1755820800-1755907199@liveonstageph.com
SUMMARY:Park Bo Gum 2025 Fan Meeting Tour 'Be With You' in Manila
DESCRIPTION:
URL:https://liveonstageph.com/event/park-bo-gum-2025-fan-meeting-tour-be-with-you-in-manila/
LOCATION:SM Mall of Asia Arena\, Philippines
CATEGORIES:Fanmeet
ATTACH;FMTTYPE=image/jpeg:https://liveonstageph.com/wp-content/uploads/2025/08/park-bo-gum-manila-2025-opt.jpg
END:VEVENT
BEGIN:VEVENT
DTSTART;VALUE=DATE:20250816
DTEND;VALUE=DATE:20250817
DTSTAMP:20260423T225613
CREATED:20250813T172508Z
LAST-MODIFIED:20250813T172508Z
UID:1142-1755302400-1755388799@liveonstageph.com
SUMMARY:Doh Kyung Soo Asia Concert Tour - DO It In Manila
DESCRIPTION:
URL:https://liveonstageph.com/event/doh-kyung-soo-asia-concert-tour-do-it-in-manila/
LOCATION:SM Mall of Asia Arena\, Philippines
CATEGORIES:Concerts,Foreign Acts
ATTACH;FMTTYPE=image/jpeg:https://liveonstageph.com/wp-content/uploads/2025/08/do-kyung-soo-manila-2025-opt.jpg
END:VEVENT
BEGIN:VEVENT
DTSTART;VALUE=DATE:20250815
DTEND;VALUE=DATE:20250816
DTSTAMP:20260423T225613
CREATED:20250813T174214Z
LAST-MODIFIED:20250813T174214Z
UID:1158-1755216000-1755302399@liveonstageph.com
SUMMARY:YUGTO: Buhay at Pag-Ibig A Concert for a Cause with Maris Racal\, Amiel Sol\, Earl Agustin\, and Cup of Joe
DESCRIPTION:
URL:https://liveonstageph.com/event/yugto-buhay-at-pag-ibig-a-concert-for-a-cause-with-maris-racal-amiel-sol-earl-agustin-and-cup-of-joe/
LOCATION:Newport Performing Arts Theater\, L2\, Newport Mall\, Newport Blvd\, Newport City\, Pasay City\, Metro Manila\, 1309\, Philippines
CATEGORIES:Concerts
ATTACH;FMTTYPE=image/jpeg:https://liveonstageph.com/wp-content/uploads/2025/08/yugto-opt.jpeg
END:VEVENT
BEGIN:VEVENT
DTSTART;VALUE=DATE:20250802
DTEND;VALUE=DATE:20250803
DTSTAMP:20260423T225613
CREATED:20250611T183816Z
LAST-MODIFIED:20250621T194434Z
UID:839-1754092800-1754179199@liveonstageph.com
SUMMARY:Ju Ji Hoon ‘JUNIVERSE’ Asia Tour Fanmeeting in Manila
DESCRIPTION:
URL:https://liveonstageph.com/event/ju-ji-hoon-set-to-have-first-ever-ph-fan-meeting-juniverse-this-august-2025/
LOCATION:Newport Performing Arts Theater\, L2\, Newport Mall\, Newport Blvd\, Newport City\, Pasay City\, Metro Manila\, 1309\, Philippines
CATEGORIES:Events,Foreign Acts
ATTACH;FMTTYPE=image/jpeg:https://liveonstageph.com/wp-content/uploads/2025/06/Ju-Ji-Hoon-Fanmeet-PH-optimised-optimised-optimised-scaled-e1750534108468.jpg
END:VEVENT
BEGIN:VEVENT
DTSTART;VALUE=DATE:20250412
DTEND;VALUE=DATE:20250414
DTSTAMP:20260423T225613
CREATED:20250329T105402Z
LAST-MODIFIED:20250621T090313Z
UID:726-1744416000-1744588799@liveonstageph.com
SUMMARY:j-hope Tour HOPE ON THE STAGE in Manila
DESCRIPTION:🗓️ April 12 and 13\, 2025 (Saturday & Sunday)\n\n📍 SM Mall of Asia Arena\n\nTickets are now sold out.
URL:https://liveonstageph.com/event/j-hope-tour-hope-on-the-stage-in-manila/
LOCATION:SM Mall of Asia Arena\, Philippines
END:VEVENT
BEGIN:VEVENT
DTSTART;VALUE=DATE:20250411
DTEND;VALUE=DATE:20250412
DTSTAMP:20260423T225613
CREATED:20250329T105010Z
LAST-MODIFIED:20250329T105010Z
UID:720-1744329600-1744415999@liveonstageph.com
SUMMARY:State Champs Live in Manila
DESCRIPTION:Strong power pop hooks? Check. Arena-sized sing-along choruses? Check. Passionate\, oftentimes seemingly angsty lyrics about life and love? Check. A fiery live show? Double check. \nObviously\, international pop-punk sensation STATE CHAMPS has ticked all the boxes as far as the whole music world is concerned\, and they’re bringing both the sound and the standard to Manila this 2025! \n🗓️ April 11\, 2025 (Friday)📍 Events Hall @ SM Southmall \nGet your tickets here.
URL:https://liveonstageph.com/event/state-champs-live-in-manila/
LOCATION:Events Hall SM Southmall
END:VEVENT
BEGIN:VEVENT
DTSTART;VALUE=DATE:20250406
DTEND;VALUE=DATE:20250407
DTSTAMP:20260423T225613
CREATED:20250329T103604Z
LAST-MODIFIED:20250329T104611Z
UID:700-1743897600-1743983999@liveonstageph.com
SUMMARY:Urbandub x Typecast 25th Anniversary Tour
DESCRIPTION:🗓️ April 6\, 2025📍 New Frontier Theater \nGet your tickets here.
URL:https://liveonstageph.com/event/urbandub-x-typecast-25th-anniversary-tour/
LOCATION:New Frontier Theater\, Philippines
END:VEVENT
BEGIN:VEVENT
DTSTART;VALUE=DATE:20250405
DTEND;VALUE=DATE:20250406
DTSTAMP:20260423T225613
CREATED:20250329T094459Z
LAST-MODIFIED:20250329T100058Z
UID:695-1743811200-1743897599@liveonstageph.com
SUMMARY:KYUHYUN 10th Anniversary Asia Tour [COLORS] in Manila
DESCRIPTION:Tickets via TicketNet
URL:https://liveonstageph.com/event/kyuhyun-10th-anniversary-asia-tour-colors-in-manila/
LOCATION:New Frontier Theater\, Philippines
CATEGORIES:Concerts,Foreign Acts
END:VEVENT
BEGIN:VEVENT
DTSTART;VALUE=DATE:20250404
DTEND;VALUE=DATE:20250405
DTSTAMP:20260423T225613
CREATED:20250329T092554Z
LAST-MODIFIED:20250329T100527Z
UID:684-1743724800-1743811199@liveonstageph.com
SUMMARY:Origami Angel Live in Manila
DESCRIPTION:It’s gonna be Somewhere City\, Manila when the Gami Gang finally flock to One Two Three Block this April 4\, 2025 for Origami Angel (US) – Live in Manila with Wellsaid (HK)!With them will be HK’s twinkle daddies Wellsaid and our very own emma bot and Deadyears.
URL:https://liveonstageph.com/event/origami-angel-live-in-manila/
LOCATION:123Block\, Mandala Park\, Mandaluyong City\, Metro Manila\, Philippines
CATEGORIES:Concerts,Foreign Acts
END:VEVENT
BEGIN:VEVENT
DTSTART;VALUE=DATE:20250404
DTEND;VALUE=DATE:20250405
DTSTAMP:20260423T225613
CREATED:20250329T091705Z
LAST-MODIFIED:20250329T100854Z
UID:679-1743724800-1743811199@liveonstageph.com
SUMMARY:Kiss Road in Asia: Kiss of Life 1st World Tour [Manila]
DESCRIPTION:Global sensation and K-pop rookie group\, KISS OF LIFE is set to begin their Asia Tour in the hottest city\, Manila for their 2025 KISS OF LIFE 1ST WORLD TOUR [KISS ROAD] happening on 4 April 2025 at U.P. Theater. \nDon’t miss out on the opportunity to witness Julie\, Natty\, Belle\, and Haneul LIVE on stage\, delivering breathtaking performances and experience exclusive fan benefits! \nGet your tickets here.
URL:https://liveonstageph.com/event/kiss-road-in-asia-kiss-of-life-1st-world-tour-manila/
LOCATION:UP Theater
CATEGORIES:Concerts,Foreign Acts
END:VEVENT
BEGIN:VEVENT
DTSTART;VALUE=DATE:20240530
DTEND;VALUE=DATE:20240531
DTSTAMP:20260423T225613
CREATED:20240521T155650Z
LAST-MODIFIED:20240521T155650Z
UID:517-1717027200-1717113599@liveonstageph.com
SUMMARY:Snoh Aalegra in Manila
DESCRIPTION:
URL:https://liveonstageph.com/event/snoh-aalegra-in-manila/
LOCATION:The Filinvest Tent\, Alabang
CATEGORIES:Concerts,Foreign Acts
END:VEVENT
BEGIN:VEVENT
DTSTART;VALUE=DATE:20240529
DTEND;VALUE=DATE:20240530
DTSTAMP:20260423T225613
CREATED:20240521T155242Z
LAST-MODIFIED:20240521T155242Z
UID:512-1716940800-1717027199@liveonstageph.com
SUMMARY:Gayle (My First Time) in Asia Tour
DESCRIPTION:
URL:https://liveonstageph.com/event/gayle-my-first-time-in-asia-tour/
LOCATION:The Podium Hall\, Philippines
CATEGORIES:Concerts,Foreign Acts
ATTACH;FMTTYPE=image/png:https://liveonstageph.com/wp-content/uploads/2024/02/GAYLE-Artwork.png
END:VEVENT
BEGIN:VEVENT
DTSTART;VALUE=DATE:20240529
DTEND;VALUE=DATE:20240530
DTSTAMP:20260423T225613
CREATED:20240521T155058Z
LAST-MODIFIED:20240521T155331Z
UID:510-1716940800-1717027199@liveonstageph.com
SUMMARY:Laufey: A Night at the Symphony
DESCRIPTION:
URL:https://liveonstageph.com/event/laufey-a-night-at-the-symphony-day-2/
LOCATION:Metro Manila
CATEGORIES:Concerts,Foreign Acts
END:VEVENT
BEGIN:VEVENT
DTSTART;VALUE=DATE:20240528
DTEND;VALUE=DATE:20240529
DTSTAMP:20260423T225613
CREATED:20240521T154955Z
LAST-MODIFIED:20240521T155350Z
UID:508-1716854400-1716940799@liveonstageph.com
SUMMARY:Laufey: A Night at the Symphony
DESCRIPTION:
URL:https://liveonstageph.com/event/laufey-a-night-at-the-symphony-day-1/
LOCATION:Metro Manila
CATEGORIES:Concerts,Foreign Acts
END:VEVENT
BEGIN:VEVENT
DTSTART;VALUE=DATE:20240525
DTEND;VALUE=DATE:20240526
DTSTAMP:20260423T225613
CREATED:20240521T160957Z
LAST-MODIFIED:20240521T161119Z
UID:521-1716595200-1716681599@liveonstageph.com
SUMMARY:#GNN9: 9 Years of GNN
DESCRIPTION:
URL:https://liveonstageph.com/event/gnn9-9-years-of-gnn/
LOCATION:123Block\, Mandala Park\, Mandaluyong City\, Metro Manila\, Philippines
CATEGORIES:Concerts,Local Acts
END:VEVENT
BEGIN:VEVENT
DTSTART;TZID=Asia/Manila:20240519T190000
DTEND;TZID=Asia/Manila:20240519T210000
DTSTAMP:20260423T225613
CREATED:20240516T021803Z
LAST-MODIFIED:20240516T022015Z
UID:494-1716145200-1716152400@liveonstageph.com
SUMMARY:SB19 Pagtatag! Finale
DESCRIPTION:
URL:https://liveonstageph.com/event/sb19-pagtatag-final/
LOCATION:Araneta Coliseum
CATEGORIES:Concerts,Local Acts
END:VEVENT
BEGIN:VEVENT
DTSTART;TZID=Asia/Manila:20240518T190000
DTEND;TZID=Asia/Manila:20240518T210000
DTSTAMP:20260423T225613
CREATED:20240516T020422Z
LAST-MODIFIED:20240516T022052Z
UID:491-1716058800-1716066000@liveonstageph.com
SUMMARY:SB19 Pagtatag! Finale
DESCRIPTION:
URL:https://liveonstageph.com/event/sb19-pagtatag-finale/
LOCATION:Araneta Coliseum
CATEGORIES:Concerts,Local Acts
END:VEVENT
END:VCALENDAR